BEGIN:VCALENDAR
VERSION:2.0
PRODID:-//My Community Diary//iCal Event//EN
CALSCALE:GREGORIAN
METHOD:PUBLISH
BEGIN:VEVENT
UID:cc4200cb-4c4b-40f0-8ddb-5c85f4bb9d4d
DTSTAMP:20260421T224132Z
DTSTART;VALUE=DATE:20260509
DTEND;VALUE=DATE:20260510
SUMMARY:A Curated Literary Retreat
DESCRIPTION:A Literary Retreat\n\nA slower-paced escape\, this women's only retreat is about returning to the essential books\, cosiness\, indulgence and gentle conversation. Spend your days reading\, eating\, drinking\, soaking\, and unwinding – joining in when you feel like it\, retreating when you don't. Its connection without expectation\, community without overwhelm. This weekend is intentionally unhurried.\n\nEntry Cost\nAll tickets $950  - Ticket prices start at $950 for a single bed within a double room and go up tp $1200 for private us.
LOCATION:\, 1033 Grose Vale Road\, Kurrajong\, NSW 2758\, NSW\, 2758
RRULE:FREQ=DAILY;INTERVAL=1;UNTIL=20260511T000000Z
END:VEVENT
END:VCALENDAR
