BEGIN:VCALENDAR
VERSION:2.0
PRODID:-//My Community Diary//iCal Event//EN
CALSCALE:GREGORIAN
METHOD:PUBLISH
BEGIN:VEVENT
UID:66ba5e95-597d-4004-a575-181b05c93494
DTSTAMP:20260421T211443Z
DTSTART;VALUE=DATE:20260531
DTEND;VALUE=DATE:20260601
SUMMARY:2026 Table Tennis Australia Tour - Goulburn
DESCRIPTION:The TTA Tour provides national level competition opportunities for National Squad and non-National Squad athletes alike\, with events being professionally presented and managed by TTA.\n\nFour TTA Tour events will be played in 2026: Perth\, Traralgon\, Goulburn and Brisbane.\n\nKey features of the TTA Tour are livestreamed matches and all events have National Title status. There's only singles events only\, mirroring the age groups/classes played at the National Championships with strong prizemoney for Open events. Entries will be capped to ensure fully timed matches\, with event schedules and draws published in advance. The tournament will be played over one weekend\, with each age group/class played in a designated timeslot and is open to all\, irrespective of citizenship status.\n\nEvents at the Tour are Aged Singles and Para only (Open\, U/21\, U/19\, U/17\, U/15\, U/13\, U/11).\n\nProudly supported by Goulburn Mulwaree Council.
LOCATION:\, Goulburn Recreation Area\, 47 Braidwood Road\, Goulburn\, NSW 2580\, NSW\, 2580
RRULE:FREQ=DAILY;INTERVAL=1;UNTIL=20260602T000000Z
END:VEVENT
END:VCALENDAR
