BEGIN:VCALENDAR
VERSION:2.0
PRODID:-//My Community Diary//iCal Event//EN
CALSCALE:GREGORIAN
METHOD:PUBLISH
BEGIN:VEVENT
UID:875a5054-ef49-49d2-8c3c-89ae34a2164c
DTSTAMP:20260424T083940Z
DTSTART;TZID=E. Australia Standard Time:20260530T153000
DTEND;TZID=E. Australia Standard Time:20260530T163000
SUMMARY:Distillery Tour and Tasting
DESCRIPTION:You must book before attending. To learn more about this class and to book\, \n                                    please visit ClassBento's website via the 'Access Event' button above.
LOCATION:\, Tamborine Mountain QLD 4272\, QLD\, 4272
END:VEVENT
END:VCALENDAR
