BEGIN:VCALENDAR
VERSION:2.0
PRODID:-//My Community Diary//iCal Event//EN
CALSCALE:GREGORIAN
METHOD:PUBLISH
BEGIN:VEVENT
UID:cf8536d8-bb56-44ca-b0cf-6016b06b4461
DTSTAMP:20260422T013839Z
DTSTART;TZID=E. Australia Standard Time:20260531T130000
DTEND;TZID=E. Australia Standard Time:20260531T160000
SUMMARY:Mosaic for Beginners Class
DESCRIPTION:You must book before attending. To learn more about this class and to book\, \n                                    please visit ClassBento's website via the 'Access Event' button above.
LOCATION:\, 2/6-22 Currie Street\, Nambour QLD\, QLD\, 4560
END:VEVENT
END:VCALENDAR
