BEGIN:VCALENDAR
VERSION:2.0
PRODID:-//My Community Diary//iCal Event//EN
CALSCALE:GREGORIAN
METHOD:PUBLISH
BEGIN:VEVENT
UID:4b7a3ebb-219d-42d7-be62-d31572ee253e
DTSTAMP:20260422T000651Z
DTSTART;TZID=E. Australia Standard Time:20260423T120000
DTEND;TZID=E. Australia Standard Time:20260423T133000
SUMMARY:Make a Matcha Ritual Set Class
DESCRIPTION:You must book before attending. To learn more about this class and to book\, \n                                    please visit ClassBento's website via the 'Access Event' button above.
LOCATION:\, 161 Long Road\, Tamborine Mountain QLD\, QLD\, 4272
END:VEVENT
END:VCALENDAR
