BEGIN:VCALENDAR
VERSION:2.0
PRODID:-//My Community Diary//iCal Event//EN
CALSCALE:GREGORIAN
METHOD:PUBLISH
BEGIN:VEVENT
UID:a8b9326c-e6cd-47f9-bae5-74d72f863ed8
DTSTAMP:20260422T032145Z
DTSTART;TZID=E. Australia Standard Time:20260613T110000
DTEND;TZID=E. Australia Standard Time:20260613T130000
SUMMARY:Soy Candle Making Class: Crystals and Botanicals
DESCRIPTION:You must book before attending. To learn more about this class and to book\, \n                                    please visit ClassBento's website via the 'Access Event' button above.
LOCATION:\, Peddly Picnics\, Main Street\, Tamborine Mountain QLD\, QLD\, 4272
END:VEVENT
END:VCALENDAR
