BEGIN:VCALENDAR
VERSION:2.0
PRODID:-//My Community Diary//iCal Event//EN
CALSCALE:GREGORIAN
METHOD:PUBLISH
BEGIN:VEVENT
UID:adf374e4-24ff-4fe8-ad98-c12e1bb96d22
DTSTAMP:20260422T003021Z
DTSTART;TZID=E. Australia Standard Time:20260620T110000
DTEND;TZID=E. Australia Standard Time:20260620T123000
SUMMARY:Paint and Spin Wheel Throwing Class
DESCRIPTION:You must book before attending. To learn more about this class and to book\, \n                                    please visit ClassBento's website via the 'Access Event' button above.
LOCATION:\, 161 Long Road\, Tamborine Mountain QLD\, QLD\, 4272
END:VEVENT
END:VCALENDAR
