BEGIN:VCALENDAR
VERSION:2.0
PRODID:-//My Community Diary//iCal Event//EN
CALSCALE:GREGORIAN
METHOD:PUBLISH
BEGIN:VEVENT
UID:2505db90-2276-4cec-95ff-2a1c638eabe0
DTSTAMP:20260422T013730Z
DTSTART;TZID=E. Australia Standard Time:20260623T100000
DTEND;TZID=E. Australia Standard Time:20260623T113000
SUMMARY:Terracotta Wheel Throwing Class
DESCRIPTION:You must book before attending. To learn more about this class and to book\, \n                                    please visit ClassBento's website via the 'Access Event' button above.
LOCATION:\, 161 Long Road\, Tamborine Mountain QLD\, QLD\, 4272
END:VEVENT
END:VCALENDAR
