BEGIN:VCALENDAR
VERSION:2.0
PRODID:-//My Community Diary//iCal Event//EN
CALSCALE:GREGORIAN
METHOD:PUBLISH
BEGIN:VEVENT
UID:dd901b81-64c3-4ed3-829c-31c5b254b3e7
DTSTAMP:20260422T002148Z
DTSTART;TZID=E. Australia Standard Time:20260529T133000
DTEND;TZID=E. Australia Standard Time:20260529T143000
SUMMARY:Distillery Tour and Tasting
DESCRIPTION:You must book before attending. To learn more about this class and to book\, \n                                    please visit ClassBento's website via the 'Access Event' button above.
LOCATION:\, Tamborine Mountain QLD 4272\, QLD\, 4272
END:VEVENT
END:VCALENDAR
