BEGIN:VCALENDAR
VERSION:2.0
PRODID:-//My Community Diary//iCal Event//EN
CALSCALE:GREGORIAN
METHOD:PUBLISH
BEGIN:VEVENT
UID:a9b7d98e-8719-4fce-ab26-bec724a29d28
DTSTAMP:20260422T001007Z
DTSTART;TZID=E. Australia Standard Time:20260517T110000
DTEND;TZID=E. Australia Standard Time:20260517T140000
SUMMARY:Authentic Italian Cooking Class: Hands-On Italian Feast
DESCRIPTION:You must book before attending. To learn more about this class and to book\, \n                                    please visit ClassBento's website via the 'Access Event' button above.
LOCATION:\, The Studio Cooking School @ VENU 12/44-48 Junction Drive\, Coolum Beach QLD\, QLD\, 4573
END:VEVENT
END:VCALENDAR
