BEGIN:VCALENDAR
VERSION:2.0
PRODID:-//My Community Diary//iCal Event//EN
CALSCALE:GREGORIAN
METHOD:PUBLISH
BEGIN:VEVENT
UID:7cdb565f-da87-462d-b84d-3dad7a02601f
DTSTAMP:20260423T102941Z
DTSTART;TZID=E. Australia Standard Time:20260508T180000
DTEND;TZID=E. Australia Standard Time:20260508T203000
SUMMARY:Turkish Mosaic Lamp Class in Toowoomba
DESCRIPTION:You must book before attending. To learn more about this class and to book\, \n                                    please visit ClassBento's website via the 'Access Event' button above.
LOCATION:\, Club Toowoomba(Ballymore Room)\, Hume Street\, South Toowoomba QLD\, QLD\, 4350
END:VEVENT
END:VCALENDAR
