BEGIN:VCALENDAR
VERSION:2.0
PRODID:-//My Community Diary//iCal Event//EN
CALSCALE:GREGORIAN
METHOD:PUBLISH
BEGIN:VEVENT
UID:db7ef195-f055-48f4-909a-dec68d311a5a
DTSTAMP:20260422T001013Z
DTSTART;TZID=E. Australia Standard Time:20260621T100000
DTEND;TZID=E. Australia Standard Time:20260621T113000
SUMMARY:Terracotta Wheel Throwing Class
DESCRIPTION:You must book before attending. To learn more about this class and to book\, \n                                    please visit ClassBento's website via the 'Access Event' button above.
LOCATION:\, 161 Long Road\, Tamborine Mountain QLD\, QLD\, 4272
END:VEVENT
END:VCALENDAR
