BEGIN:VCALENDAR
VERSION:2.0
PRODID:-//My Community Diary//iCal Event//EN
CALSCALE:GREGORIAN
METHOD:PUBLISH
BEGIN:VEVENT
UID:5f40aa1e-16e8-4728-a0e4-dd2d7cd24434
DTSTAMP:20260422T000654Z
DTSTART;TZID=E. Australia Standard Time:20260516T110000
DTEND;TZID=E. Australia Standard Time:20260516T130000
SUMMARY:Soy Candle Making Class: Crystals and Botanicals
DESCRIPTION:You must book before attending. To learn more about this class and to book\, \n                                    please visit ClassBento's website via the 'Access Event' button above.
LOCATION:\, Peddly Picnics\, Main Street\, Tamborine Mountain QLD\, QLD\, 4272
END:VEVENT
END:VCALENDAR
