BEGIN:VCALENDAR
VERSION:2.0
PRODID:-//My Community Diary//iCal Event//EN
CALSCALE:GREGORIAN
METHOD:PUBLISH
BEGIN:VEVENT
UID:a2cd5d40-f7e7-45b9-b0d6-bc4df1a831eb
DTSTAMP:20260422T013700Z
DTSTART;TZID=E. Australia Standard Time:20260510T110000
DTEND;TZID=E. Australia Standard Time:20260510T130000
SUMMARY:Soy Candle Making Class: Crystals and Botanicals
DESCRIPTION:You must book before attending. To learn more about this class and to book\, \n                                    please visit ClassBento's website via the 'Access Event' button above.
LOCATION:\, Peddly Picnics\, Main Street\, Tamborine Mountain QLD\, QLD\, 4272
END:VEVENT
END:VCALENDAR
