BEGIN:VCALENDAR
VERSION:2.0
PRODID:-//My Community Diary//iCal Event//EN
CALSCALE:GREGORIAN
METHOD:PUBLISH
BEGIN:VEVENT
UID:3a24a351-b358-413e-9ad5-10d3e6a525e7
DTSTAMP:20260421T222643Z
DTSTART;TZID=E. Australia Standard Time:20260524T110000
DTEND;TZID=E. Australia Standard Time:20260524T133000
SUMMARY:EatFit Cooking Class
DESCRIPTION:You must book before attending. To learn more about this class and to book\, \n                                    please visit ClassBento's website via the 'Access Event' button above.
LOCATION:\, The Studio Cooking School @ VENU\, 12/44-48 Junction Drive\, Coolum Beach QLD 4573\, QLD\, QLD\, 4573
END:VEVENT
END:VCALENDAR
