BEGIN:VCALENDAR
VERSION:2.0
PRODID:-//My Community Diary//iCal Event//EN
CALSCALE:GREGORIAN
METHOD:PUBLISH
BEGIN:VEVENT
UID:6246c00a-2645-4a8e-89c9-985b50039395
DTSTAMP:20260422T032311Z
DTSTART;TZID=E. Australia Standard Time:20260614T130000
DTEND;TZID=E. Australia Standard Time:20260614T153000
SUMMARY:Macrame Pot Holder Workshop
DESCRIPTION:You must book before attending. To learn more about this class and to book\, \n                                    please visit ClassBento's website via the 'Access Event' button above.
LOCATION:\, Peddly Picnics\, Main Street\, Tamborine Mountain QLD\, QLD\, 4272
END:VEVENT
END:VCALENDAR
