BEGIN:VCALENDAR
VERSION:2.0
PRODID:-//My Community Diary//iCal Event//EN
CALSCALE:GREGORIAN
METHOD:PUBLISH
BEGIN:VEVENT
UID:72d2d634-54a7-4db4-a23f-26fb1afc3c29
DTSTAMP:20260421T222543Z
DTSTART;TZID=E. Australia Standard Time:20260502T100000
DTEND;TZID=E. Australia Standard Time:20260502T123000
SUMMARY:EatFit Cooking Class
DESCRIPTION:You must book before attending. To learn more about this class and to book\, \n                                    please visit ClassBento's website via the 'Access Event' button above.
LOCATION:\, The Studio Cooking School @ VENU\, 12/44-48 Junction Drive\, Coolum Beach QLD 4573\, QLD\, QLD\, 4573
END:VEVENT
END:VCALENDAR
