BEGIN:VCALENDAR
VERSION:2.0
PRODID:-//My Community Diary//iCal Event//EN
CALSCALE:GREGORIAN
METHOD:PUBLISH
BEGIN:VEVENT
UID:1366ea40-b4e1-45b9-b829-25ede5dfa937
DTSTAMP:20260423T102938Z
DTSTART;TZID=E. Australia Standard Time:20260523T153000
DTEND;TZID=E. Australia Standard Time:20260523T163000
SUMMARY:Distillery Tour and Tasting
DESCRIPTION:You must book before attending. To learn more about this class and to book\, \n                                    please visit ClassBento's website via the 'Access Event' button above.
LOCATION:\, Tamborine Mountain QLD 4272\, QLD\, 4272
END:VEVENT
END:VCALENDAR
