BEGIN:VCALENDAR
VERSION:2.0
PRODID:-//My Community Diary//iCal Event//EN
CALSCALE:GREGORIAN
METHOD:PUBLISH
BEGIN:VEVENT
UID:dfced092-0798-4c84-a519-67088e0044fa
DTSTAMP:20260421T222416Z
DTSTART;TZID=E. Australia Standard Time:20260530T103000
DTEND;TZID=E. Australia Standard Time:20260530T120000
SUMMARY:Cocktail Masterclass
DESCRIPTION:You must book before attending. To learn more about this class and to book\, \n                                    please visit ClassBento's website via the 'Access Event' button above.
LOCATION:\, Tamborine Mountain QLD 4272\, QLD\, 4272
END:VEVENT
END:VCALENDAR
