BEGIN:VCALENDAR
VERSION:2.0
PRODID:-//My Community Diary//iCal Event//EN
CALSCALE:GREGORIAN
METHOD:PUBLISH
BEGIN:VEVENT
UID:e3c9abd4-52d4-4a22-a3d7-4959570ce849
DTSTAMP:20260422T002113Z
DTSTART;TZID=E. Australia Standard Time:20260531T130000
DTEND;TZID=E. Australia Standard Time:20260531T153000
SUMMARY:Macrame Pot Holder Workshop
DESCRIPTION:You must book before attending. To learn more about this class and to book\, \n                                    please visit ClassBento's website via the 'Access Event' button above.
LOCATION:\, Peddly Picnics\, Main Street\, Tamborine Mountain QLD\, QLD\, 4272
END:VEVENT
END:VCALENDAR
