BEGIN:VCALENDAR
VERSION:2.0
PRODID:-//My Community Diary//iCal Event//EN
CALSCALE:GREGORIAN
METHOD:PUBLISH
BEGIN:VEVENT
UID:6cb6ef48-4661-4b97-9454-9aa67eb1d59e
DTSTAMP:20260422T032101Z
DTSTART;TZID=E. Australia Standard Time:20260426T110000
DTEND;TZID=E. Australia Standard Time:20260426T130000
SUMMARY:Soy Candle Making Class: Crystals and Botanicals
DESCRIPTION:You must book before attending. To learn more about this class and to book\, \n                                    please visit ClassBento's website via the 'Access Event' button above.
LOCATION:\, Peddly Picnics\, Main Street\, Tamborine Mountain QLD\, QLD\, 4272
END:VEVENT
END:VCALENDAR
