BEGIN:VCALENDAR
VERSION:2.0
PRODID:-//My Community Diary//iCal Event//EN
CALSCALE:GREGORIAN
METHOD:PUBLISH
BEGIN:VEVENT
UID:f61bc94a-0421-4705-8122-93e2e1e8ee61
DTSTAMP:20260421T224403Z
DTSTART;TZID=E. Australia Standard Time:20260517T110000
DTEND;TZID=E. Australia Standard Time:20260517T130000
SUMMARY:Lost Wax Ring Carving Workshop
DESCRIPTION:You must book before attending. To learn more about this class and to book\, \n                                    please visit ClassBento's website via the 'Access Event' button above.
LOCATION:\, 79 Memorial Drive\, Eumundi QLD\, QLD\, 4562
END:VEVENT
END:VCALENDAR
