BEGIN:VCALENDAR
VERSION:2.0
PRODID:-//My Community Diary//iCal Event//EN
CALSCALE:GREGORIAN
METHOD:PUBLISH
BEGIN:VEVENT
UID:5a5426dc-4cea-4b31-ad89-87dc1f77f5f8
DTSTAMP:20260421T222626Z
DTSTART;TZID=E. Australia Standard Time:20260428T180000
DTEND;TZID=E. Australia Standard Time:20260428T203000
SUMMARY:EatFit Cooking Class
DESCRIPTION:You must book before attending. To learn more about this class and to book\, \n                                    please visit ClassBento's website via the 'Access Event' button above.
LOCATION:\, The Studio Cooking School @ VENU\, 12/44-48 Junction Drive\, Coolum Beach QLD 4573\, QLD\, QLD\, 4573
END:VEVENT
END:VCALENDAR
