BEGIN:VCALENDAR
VERSION:2.0
PRODID:-//My Community Diary//iCal Event//EN
CALSCALE:GREGORIAN
METHOD:PUBLISH
BEGIN:VEVENT
UID:25d1aa03-94d3-410f-9d9c-dc2d94627b47
DTSTAMP:20260422T013837Z
DTSTART;TZID=E. Australia Standard Time:20260509T103000
DTEND;TZID=E. Australia Standard Time:20260509T120000
SUMMARY:Cocktail Masterclass
DESCRIPTION:You must book before attending. To learn more about this class and to book\, \n                                    please visit ClassBento's website via the 'Access Event' button above.
LOCATION:\, Tamborine Mountain QLD 4272\, QLD\, 4272
END:VEVENT
END:VCALENDAR
