BEGIN:VCALENDAR
VERSION:2.0
PRODID:-//My Community Diary//iCal Event//EN
CALSCALE:GREGORIAN
METHOD:PUBLISH
BEGIN:VEVENT
UID:3cbb31e3-0ecb-4a5f-9c77-48b331441c20
DTSTAMP:20260422T000844Z
DTSTART:20260521T080000Z
DTEND:20260521T170000Z
SUMMARY:Occupational Therapy
DESCRIPTION:This event is provided by Lifestyle Therapies & Training Solutions at Carbal Medical Services. Please confirm precise times with the service provider. (https://ltts.com.au/)\nLifestyle Therapies & Training Solutions has experience in the following: LTTS is committed to providing culturally safe and secure Health services (Limited space here)
LOCATION:\, 125 Russell Street\, Toowoomba\, QLD\, 4350\, QLD\, 4350
END:VEVENT
END:VCALENDAR
