BEGIN:VCALENDAR
VERSION:2.0
PRODID:-//My Community Diary//iCal Event//EN
CALSCALE:GREGORIAN
METHOD:PUBLISH
BEGIN:VEVENT
UID:08e97987-1216-45a0-a536-c223e30e759c
DTSTAMP:20260422T003019Z
DTSTART;TZID=E. Australia Standard Time:20260522T133000
DTEND;TZID=E. Australia Standard Time:20260522T143000
SUMMARY:Distillery Tour and Tasting
DESCRIPTION:You must book before attending. To learn more about this class and to book\, \n                                    please visit ClassBento's website via the 'Access Event' button above.
LOCATION:\, Tamborine Mountain QLD 4272\, QLD\, 4272
END:VEVENT
END:VCALENDAR
