BEGIN:VCALENDAR
VERSION:2.0
PRODID:-//My Community Diary//iCal Event//EN
CALSCALE:GREGORIAN
METHOD:PUBLISH
BEGIN:VEVENT
UID:3e525c17-f7d6-45c0-b854-e330c6c7657b
DTSTAMP:20260421T224135Z
DTSTART;TZID=E. Australia Standard Time:20260612T180000
DTEND;TZID=E. Australia Standard Time:20260612T191500
SUMMARY:Kokedama Making Workshop
DESCRIPTION:You must book before attending. To learn more about this class and to book\, \n                                    please visit ClassBento's website via the 'Access Event' button above.
LOCATION:\, 4/40 Glen Kyle Drive\, Buderim QLD\, QLD\, 4556
END:VEVENT
END:VCALENDAR
