BEGIN:VCALENDAR
VERSION:2.0
PRODID:-//My Community Diary//iCal Event//EN
CALSCALE:GREGORIAN
METHOD:PUBLISH
BEGIN:VEVENT
UID:367d110d-1a8a-49cb-9ce5-98ae57733a25
DTSTAMP:20260422T013830Z
DTSTART;TZID=E. Australia Standard Time:20260613T140000
DTEND;TZID=E. Australia Standard Time:20260613T151500
SUMMARY:Terrarium Making Class
DESCRIPTION:You must book before attending. To learn more about this class and to book\, \n                                    please visit ClassBento's website via the 'Access Event' button above.
LOCATION:\, 4/40 Glen Kyle Drive\, Buderim\, QLD\, 4556
END:VEVENT
END:VCALENDAR
