BEGIN:VCALENDAR
VERSION:2.0
PRODID:-//My Community Diary//iCal Event//EN
CALSCALE:GREGORIAN
METHOD:PUBLISH
BEGIN:VEVENT
UID:0cc424bc-6476-4c66-b09c-358c4c759b9d
DTSTAMP:20260422T021842Z
DTSTART:20261108T090000Z
DTEND:20261108T140000Z
SUMMARY:2026 Newcastle Toy Run Bike Show and Media Release
DESCRIPTION:Get into the 2026 Newcastle Toy Run mood with a bang\, Come along and show off your pride and joy $10 Show entry\, free public show\, there will be food trucks\, Coffee\, Drinks\, and fun for all.\nFull details to follow lock in the date and start polishing!!! 
LOCATION:The Station \, The Station\, Watt Street\, Newcastle NSW\, Australia\, NSW
END:VEVENT
END:VCALENDAR
