BEGIN:VCALENDAR
VERSION:2.0
PRODID:-//My Community Diary//iCal Event//EN
CALSCALE:GREGORIAN
METHOD:PUBLISH
BEGIN:VEVENT
UID:a7c3b72a-964b-4c0e-90de-758b9424351d
DTSTAMP:20260421T222234Z
DTSTART;TZID=E. Australia Standard Time:20260511T103000
DTEND;TZID=E. Australia Standard Time:20260511T113000
SUMMARY:Cooking For Health - Healthy Ageing
DESCRIPTION:Cooking for Health - for Healthy Ageing for over 65yrs\n\nwith Dietitian &amp\; Nutritionist with Caitlin Luong\n\n10.30am -11.30 am\n
LOCATION:Granite Belt Neighbourhood Centre - 15 Hilton St\, 15 Hilton Street\, Stanthorpe QLD 4380\, QLD\, 4380
RRULE:FREQ=MONTHLY;INTERVAL=1;BYMONTHDAY=11;UNTIL=20260609T000000Z
END:VEVENT
END:VCALENDAR
