BEGIN:VCALENDAR
VERSION:2.0
PRODID:-//My Community Diary//iCal Event//EN
CALSCALE:GREGORIAN
METHOD:PUBLISH
BEGIN:VEVENT
UID:0c3c3dbf-ff7b-4c55-a889-ee91618656f3
DTSTAMP:20260422T033652Z
DTSTART;TZID=E. Australia Standard Time:20260509T100000
DTEND;TZID=E. Australia Standard Time:20260509T120000
SUMMARY:Glass Kiln Fused Workshop
DESCRIPTION:You must book before attending. To learn more about this class and to book\, \n                                    please visit ClassBento's website via the 'Access Event' button above.
LOCATION:\, Tamborine Glassblowing\, Nicolet Drive\, Tamborine Mountain QLD\, QLD\, 4272
END:VEVENT
END:VCALENDAR
