BEGIN:VCALENDAR
VERSION:2.0
PRODID:-//My Community Diary//iCal Event//EN
CALSCALE:GREGORIAN
METHOD:PUBLISH
BEGIN:VEVENT
UID:80ba07f5-cbc9-46d9-85d0-5aa6947157a3
DTSTAMP:20260421T222637Z
DTSTART;TZID=E. Australia Standard Time:20260609T090000
DTEND;TZID=E. Australia Standard Time:20260609T120000
SUMMARY:Bicycle Maintenance Workshop QLD\, Sunshine Coast
DESCRIPTION:You must book before attending. To learn more about this class and to book\, \n                                    please visit ClassBento's website via the 'Access Event' button above.
LOCATION:\, 44 Edison Cres\, Baringa QLD\, QLD\, 4551
END:VEVENT
END:VCALENDAR
