BEGIN:VCALENDAR
VERSION:2.0
PRODID:-//My Community Diary//iCal Event//EN
CALSCALE:GREGORIAN
METHOD:PUBLISH
BEGIN:VEVENT
UID:6095a6d7-c112-4c78-9f6a-ba6a14f332ec
DTSTAMP:20260424T100720Z
DTSTART;TZID=E. Australia Standard Time:20260425T140000
DTEND;TZID=E. Australia Standard Time:20260425T160000
SUMMARY:Self Led Painting Club
DESCRIPTION:You must book before attending. To learn more about this class and to book\, \n                                    please visit ClassBento's website via the 'Access Event' button above.
LOCATION:\, 2/6-22 Currie St\, Nambour QLD\, QLD\, 4560
END:VEVENT
END:VCALENDAR
