BEGIN:VCALENDAR
VERSION:2.0
PRODID:-//My Community Diary//iCal Event//EN
CALSCALE:GREGORIAN
METHOD:PUBLISH
BEGIN:VEVENT
UID:18709c03-9778-4390-a632-7a02d2f7de01
DTSTAMP:20260424T100720Z
DTSTART;TZID=E. Australia Standard Time:20260509T093000
DTEND;TZID=E. Australia Standard Time:20260509T113000
SUMMARY:Beginners Mosaic Workshop
DESCRIPTION:You must book before attending. To learn more about this class and to book\, \n                                    please visit ClassBento's website via the 'Access Event' button above.
LOCATION:\, Tamborine Glassblowing\, Nicolet Drive\, Tamborine Mountain QLD\, QLD\, 4272
END:VEVENT
END:VCALENDAR
