BEGIN:VCALENDAR
VERSION:2.0
PRODID:-//My Community Diary//iCal Event//EN
CALSCALE:GREGORIAN
METHOD:PUBLISH
BEGIN:VEVENT
UID:ed4c673b-d874-4808-828d-40ddb270fbb3
DTSTAMP:20260421T224158Z
DTSTART:20260511T080000Z
DTEND:20260511T170000Z
SUMMARY:Physician - Cardiology
DESCRIPTION:This event is provided by Heart of Australia at Heart Of Australia Van Clinic - Stanthorpe. Please confirm precise times with the service provider. (https://heartofaustralia.com.au/)\nHeart of Australia has experience in the following: Working closely with Health Service Goondir in Dalby\, CWAATSICH in Charleville\, Quilpie & Roma
LOCATION:\, Stanthorpe\, QLD\, 4380\, QLD\, 4380
END:VEVENT
END:VCALENDAR
