BEGIN:VCALENDAR
VERSION:2.0
PRODID:-//My Community Diary//iCal Event//EN
CALSCALE:GREGORIAN
METHOD:PUBLISH
BEGIN:VEVENT
UID:f467038c-8948-4924-8997-317c4e71902a
DTSTAMP:20260422T001825Z
DTSTART:20260511T080000Z
DTEND:20260511T170000Z
SUMMARY:Sonography
DESCRIPTION:This event is provided by Heart of Australia at Heart Of Australia Van Clinic - Stanthorpe. Please confirm precise times with the service provider. (https://heartofaustralia.com.au/)\nHeart of Australia has experience in the following: Working closely with Health Service Goondir in Dalby\, CWAATSICH in Charleville\, Quilpie & Roma
LOCATION:\, Stanthorpe\, QLD\, 4380\, QLD\, 4380
END:VEVENT
END:VCALENDAR
