BEGIN:VCALENDAR
VERSION:2.0
PRODID:-//My Community Diary//iCal Event//EN
CALSCALE:GREGORIAN
METHOD:PUBLISH
BEGIN:VEVENT
UID:c7dfd7f6-e979-42a4-b75a-2aaeb27f061e
DTSTAMP:20260422T032145Z
DTSTART:20260604T080000Z
DTEND:20260604T170000Z
SUMMARY:Dietetics
DESCRIPTION:This event is provided by Sugarmates at Millmerran Primary Clinic. Please confirm precise times with the service provider. (https://ahdiabetes.com.au/)\nSugarmates has experience in the following: Providing diabetes education to both Aboriginal and Torres Strait Islander community\nfor over 10yrs
LOCATION:\, 45 Campbell Street\, Millmerran\, QLD\, 4357\, QLD\, 4357
END:VEVENT
END:VCALENDAR
