BEGIN:VCALENDAR
VERSION:2.0
PRODID:-//My Community Diary//iCal Event//EN
CALSCALE:GREGORIAN
METHOD:PUBLISH
BEGIN:VEVENT
UID:3933ec18-08c3-4a8f-9fb7-2ef93d1b3a46
DTSTAMP:20260422T032209Z
DTSTART;TZID=E. Australia Standard Time:20260524T130000
DTEND;TZID=E. Australia Standard Time:20260524T150000
SUMMARY:Beginners Drawing Workshop: Perfecting Portraits
DESCRIPTION:You must book before attending. To learn more about this class and to book\, \n                                    please visit ClassBento's website via the 'Access Event' button above.
LOCATION:\, 184 Main Street\, Montville QLD\, QLD\, 4560
END:VEVENT
END:VCALENDAR
