BEGIN:VCALENDAR
VERSION:2.0
PRODID:-//My Community Diary//iCal Event//EN
CALSCALE:GREGORIAN
METHOD:PUBLISH
BEGIN:VEVENT
UID:d544120d-0444-4472-b2dd-b21ff8fdbbdc
DTSTAMP:20260422T071442Z
DTSTART;TZID=AUS Eastern Standard Time:20260313T113000
DTEND;TZID=AUS Eastern Standard Time:20260313T133000
SUMMARY:Emergency Food Relief and Second Bite
DESCRIPTION:We also run the following Woolies and Coles prevention of food waste programs:\n\n\n	Friday at KNC from 11.30\n\n\n&nbsp\;\n\n*We never know what we are going to get donated to these programs\, Tuesday and Wednesday is usually produce\, and Friday is usually bread and produce.\n\nThis is completely free – no questions asked and no requirement to pay or purchase anything.\n\nWe do ask that people bring their own bag and limit themselves to one bag full per household.\n\nCall KNC 6562 8300\n
LOCATION:Kempsey Neighbourhood Centre - West Kempsey\, 34 Gordon Nixon Avenue\, West Kempsey NSW 2440\, NSW\, 2440
RRULE:FREQ=WEEKLY;INTERVAL=1;BYDAY=FR
END:VEVENT
END:VCALENDAR
