BEGIN:VCALENDAR
VERSION:2.0
PRODID:-//My Community Diary//iCal Event//EN
CALSCALE:GREGORIAN
METHOD:PUBLISH
BEGIN:VEVENT
UID:a8358078-6ced-4b8e-aa32-c674b7f6611a
DTSTAMP:20260422T035635Z
DTSTART;TZID=AUS Eastern Standard Time:20260310T100000
DTEND;TZID=AUS Eastern Standard Time:20260310T120000
SUMMARY:Emergency Food Relief and Second Bite
DESCRIPTION:We run the following Woolies and Coles prevention of food waste programs:\n\nTuesday at West Kempsey Hub for West Kempsey residents only from 10:00 to 12:00 or until gone.\n\n*We never know what we are going to get donated to these programs\, \n\n\n	Tuesday and Wednesday is usually produce.\n	Friday is usually bread and produce.\n\n\nThis is completely free – no questions asked and no requirement to pay or purchase anything.\n\nWe do ask that people bring their own bag and limit themselves to one bag full per household.\n\nCall KNC (02) 6562 8300\n
LOCATION:Kempsey Neighbourhood Centre - West Kempsey\, 34 Gordon Nixon Avenue\, West Kempsey NSW 2440\, NSW\, 2440
RRULE:FREQ=WEEKLY;INTERVAL=1;BYDAY=TU
END:VEVENT
END:VCALENDAR
