BEGIN:VCALENDAR
VERSION:2.0
PRODID:-//My Community Diary//iCal Event//EN
CALSCALE:GREGORIAN
METHOD:PUBLISH
BEGIN:VEVENT
UID:df04deec-1417-4ea0-9558-2f0732d3e2b7
DTSTAMP:20260422T071512Z
DTSTART;TZID=AUS Eastern Standard Time:20260310T133000
DTEND;TZID=AUS Eastern Standard Time:20260310T160000
SUMMARY:Emergency Food Relief and Second Bite
DESCRIPTION:Tuesday at West Kempsey Hub for West Kempsey residents only from 10:00 to 12:00 or until gone\n\n*We never know what we are going to get donated to these programs\, \n\n\n	Tuesday and Wednesday is usually produce\, and\n	Friday is usually bread and produce. \n\n\nThis is completely free – No questions asked and no requirement to pay or purchase anything.\n\nWe do ask that people bring their own bag and limit themselves to one bag full per household.\n
LOCATION:Kempsey Neighbourhood Centre - West Kempsey\, 34 Gordon Nixon Avenue\, West Kempsey NSW 2440\, NSW\, 2440
RRULE:FREQ=WEEKLY;INTERVAL=1;BYDAY=TU,WE,FR
END:VEVENT
END:VCALENDAR
