BEGIN:VCALENDAR
VERSION:2.0
PRODID:-//My Community Diary//iCal Event//EN
CALSCALE:GREGORIAN
METHOD:PUBLISH
BEGIN:VEVENT
UID:fd26bc68-5ae0-4e7b-b141-1077254545bb
DTSTAMP:20260422T001757Z
DTSTART;TZID=AUS Eastern Standard Time:20260309T090000
DTEND;TZID=AUS Eastern Standard Time:20260309T120000
SUMMARY:Orange Sky Laundry Pod
DESCRIPTION:We host an Orange Sky laundry pod for people to come and get their washing and drying done.\n\n\n	One load per person.\n\n\nThis service\, run by volunteers\,\n\nFrom 9:00am until 12.30pm on Mondays and Wednesdays at the Kempsey Neighbourhood Centre\n
LOCATION:Kempsey Neighbourhood Centre\, 2 Geoffrey Debenham Street\, Kempsey NSW 2440\, NSW\, 2440
RRULE:FREQ=WEEKLY;INTERVAL=1;BYDAY=MO,WE
END:VEVENT
END:VCALENDAR
