BEGIN:VCALENDAR
VERSION:2.0
PRODID:-//My Community Diary//iCal Event//EN
CALSCALE:GREGORIAN
METHOD:PUBLISH
BEGIN:VEVENT
UID:6afb2fe2-7781-4d3e-9010-fab5fbd8d021
DTSTAMP:20260422T020205Z
DTSTART;TZID=AUS Eastern Standard Time:20260311T150000
DTEND;TZID=AUS Eastern Standard Time:20260311T163000
SUMMARY:West Kempsey Primary Aged Kid’s Group
DESCRIPTION:West Kempsey Primary Aged Kid’s group – fruit\, a meal\, and activities provided.\n\nWednesday 3:00 – 4:30\n\nWest Kempsey Hub\n
LOCATION:Kempsey Neighbourhood Centre - West Kempsey\, 34 Gordon Nixon Avenue\, West Kempsey NSW 2440\, NSW\, 2440
RRULE:FREQ=WEEKLY;INTERVAL=1;BYDAY=WE
END:VEVENT
END:VCALENDAR
