BEGIN:VCALENDAR
VERSION:2.0
PRODID:-//My Community Diary//iCal Event//EN
CALSCALE:GREGORIAN
METHOD:PUBLISH
BEGIN:VEVENT
UID:699930b8-7a06-49e8-a5a1-0909474f0885
DTSTAMP:20260422T035624Z
DTSTART;TZID=AUS Eastern Standard Time:20260310T150000
DTEND;TZID=AUS Eastern Standard Time:20260310T170000
SUMMARY:South Kempsey Kid’s Group
DESCRIPTION:South Kempsey Kid’s Group\n\nAfter School Tuesdays in school terms.\n\nAll primary aged children welcome!\n\nSouth Kempsey Primary Aged Kid’s group – fruit\, a meal\, and activities provided.\n\nTuesdays 3:00 – 4:30\n\nSouth Kempsey Community Centre\n
LOCATION:Kempsey Neighbourhood Centre - South Kempsey\, 48 Yarravel Street\, South Kempsey NSW 2440\, NSW\, 2440
RRULE:FREQ=WEEKLY;INTERVAL=1;BYDAY=TU
END:VEVENT
END:VCALENDAR
