BEGIN:VCALENDAR
VERSION:2.0
PRODID:-//My Community Diary//iCal Event//EN
CALSCALE:GREGORIAN
METHOD:PUBLISH
BEGIN:VEVENT
UID:4f44ea1f-5c18-4cd2-ab5a-c81fa60a93ff
DTSTAMP:20260422T002112Z
DTSTART;TZID=E. Australia Standard Time:20260515T153000
DTEND;TZID=E. Australia Standard Time:20260515T163000
SUMMARY:Distillery Tour and Tasting
DESCRIPTION:You must book before attending. To learn more about this class and to book\, \n                                    please visit ClassBento's website via the 'Access Event' button above.
LOCATION:\, Tamborine Mountain QLD 4272\, QLD\, 4272
END:VEVENT
END:VCALENDAR
