BEGIN:VCALENDAR
VERSION:2.0
PRODID:-//My Community Diary//iCal Event//EN
CALSCALE:GREGORIAN
METHOD:PUBLISH
BEGIN:VEVENT
UID:5d8af5d3-d550-40f0-8ad3-4ee827b9bf09
DTSTAMP:20260421T222353Z
DTSTART;TZID=E. Australia Standard Time:20260426T100000
DTEND;TZID=E. Australia Standard Time:20260426T130000
SUMMARY:Mosaic for Beginners Class
DESCRIPTION:You must book before attending. To learn more about this class and to book\, \n                                    please visit ClassBento's website via the 'Access Event' button above.
LOCATION:\, 2/6-22 Currie Street\, Nambour QLD\, QLD\, 4560
END:VEVENT
END:VCALENDAR
