BEGIN:VCALENDAR
VERSION:2.0
PRODID:-//My Community Diary//iCal Event//EN
CALSCALE:GREGORIAN
METHOD:PUBLISH
BEGIN:VEVENT
UID:f7247b3b-a1c8-45d2-b802-a39b6b119dfe
DTSTAMP:20260424T083940Z
DTSTART;TZID=E. Australia Standard Time:20260521T140000
DTEND;TZID=E. Australia Standard Time:20260521T160000
SUMMARY:Soy Candle Making Class: Crystals and Botanicals
DESCRIPTION:You must book before attending. To learn more about this class and to book\, \n                                    please visit ClassBento's website via the 'Access Event' button above.
LOCATION:\, Peddly Picnics\, Main Street\, Tamborine Mountain QLD\, QLD
END:VEVENT
END:VCALENDAR
