BEGIN:VCALENDAR
VERSION:2.0
PRODID:-//My Community Diary//iCal Event//EN
CALSCALE:GREGORIAN
METHOD:PUBLISH
BEGIN:VEVENT
UID:e96db70f-cf6f-4b9f-bfb0-a77bb15f3a79
DTSTAMP:20260422T013734Z
DTSTART;TZID=E. Australia Standard Time:20260604T120000
DTEND;TZID=E. Australia Standard Time:20260604T133000
SUMMARY:Paint and Spin Wheel Throwing Class
DESCRIPTION:You must book before attending. To learn more about this class and to book\, \n                                    please visit ClassBento's website via the 'Access Event' button above.
LOCATION:\, 161 Long Road\, Tamborine Mountain QLD\, QLD\, 4272
END:VEVENT
END:VCALENDAR
