BEGIN:VCALENDAR
VERSION:2.0
PRODID:-//My Community Diary//iCal Event//EN
CALSCALE:GREGORIAN
METHOD:PUBLISH
BEGIN:VEVENT
UID:73e8d646-18ac-47b8-a5e3-66f915956fd0
DTSTAMP:20260422T052233Z
DTSTART;TZID=E. Australia Standard Time:20260509T100000
DTEND;TZID=E. Australia Standard Time:20260509T120000
SUMMARY:Hydroponic Plant Growing Workshop
DESCRIPTION:You must book before attending. To learn more about this class and to book\, \n                                    please visit ClassBento's website via the 'Access Event' button above.
LOCATION:\, Fortitude Brewing Co.\, 165 Long Road\, Tamborine Mountain QLD\, QLD\, 4272
END:VEVENT
END:VCALENDAR
