BEGIN:VCALENDAR
VERSION:2.0
PRODID:-//My Community Diary//iCal Event//EN
CALSCALE:GREGORIAN
METHOD:PUBLISH
BEGIN:VEVENT
UID:1d7c2218-2029-4456-b0fa-1a925d0edbed
DTSTAMP:20260422T031915Z
DTSTART:20260514T080000Z
DTEND:20260514T170000Z
SUMMARY:Diabetes Education
DESCRIPTION:This event is provided by Sugarmates at Millmerran Primary Clinic. Please confirm precise times with the service provider. (https://ahdiabetes.com.au/)\nSugarmates has experience in the following: Providing diabetes education to both Aboriginal and Torres Strait Islander community\nfor over 10yrs
LOCATION:\, 45 Campbell Street\, Millmerran\, QLD\, 4357\, QLD\, 4357
END:VEVENT
END:VCALENDAR
